BEGIN:VCALENDAR
VERSION:2.0
PRODID:-//eventon.com NONSGML v1.0//EN
CALSCALE:GREGORIAN
METHOD:PUBLISH
BEGIN:VEVENT
UID:69e5afc13f450
DTSTAMP:20260420T044657Z
DTSTART:20260504T070000Z
DTEND:20260504T180000Z
LOCATION:
SUMMARY:Formación gratuita en competencias digitales
DESCRIPTION:El Colegio Oficial de Enfermería de A Coruña se suma a la ini
 ciativa “Formación en competencias digitales para profesionales”\,  un
  programa impulsado por Unión Profesional con el apoyo de los fondos europ
 eos Next Generation y la colaboración del Consejo General de Enfermería. 
 El objetivo de este proyecto es reforzar las[..]\nhttps://unionprofesionald
 egalicia.org/gl/events/formacion-gratuita-en-competencias-digitales-copy/
URL:https://unionprofesionaldegalicia.org/gl/events/formacion-gratuita-en-competencias-digitales-copy/
END:VEVENT
END:VCALENDAR