BEGIN:VCALENDAR
VERSION:2.0
PRODID:-//eventon.com NONSGML v1.0//EN
CALSCALE:GREGORIAN
METHOD:PUBLISH
BEGIN:VEVENT
UID:69e4c165b263a
DTSTAMP:20260419T114957Z
DTSTART:20251109T160000Z
DTEND:20251109T180000Z
LOCATION:
SUMMARY:Webinar Traballo Social en exercicio libre: A nosa experiencia con Xen Social
DESCRIPTION:Accede al contenido de este curso organizado por el Colexio Ofi
 cial de Traballo Social de Galicia Accede aquí.\nhttps://unionprofesionald
 egalicia.org/gl/events/webinar-traballo-social-en-exercicio-libre-a-nosa-ex
 periencia-con-xen-social/
URL:https://unionprofesionaldegalicia.org/gl/events/webinar-traballo-social-en-exercicio-libre-a-nosa-experiencia-con-xen-social/
END:VEVENT
END:VCALENDAR