BEGIN:VCALENDAR
VERSION:2.0
PRODID:-//eventon.com NONSGML v1.0//EN
CALSCALE:GREGORIAN
METHOD:PUBLISH
BEGIN:VEVENT
UID:69e594fc6832d
DTSTAMP:20260420T025244Z
DTSTART:20260409T080000Z
DTEND:20260409T093000Z
LOCATION:
SUMMARY:Comunicacións urxentes á autoridade laboral
DESCRIPTION:\nhttps://unionprofesionaldegalicia.org/events/comunicacions-ur
 xentes-a-autoridade-laboral/
URL:https://unionprofesionaldegalicia.org/events/comunicacions-urxentes-a-autoridade-laboral/
END:VEVENT
END:VCALENDAR