BEGIN:VCALENDAR
VERSION:2.0
PRODID:-//eventon.com NONSGML v1.0//EN
CALSCALE:GREGORIAN
METHOD:PUBLISH
BEGIN:VEVENT
UID:69e59442e30cd
DTSTAMP:20260420T024938Z
DTSTART:20260130T150000Z
DTEND:20260530T183000Z
LOCATION:
SUMMARY:Curso Modular Gestión Dental Integral
DESCRIPTION:OBJETIVOS: El objetivo es ofrecer al odontólogo una formación
  práctica en la gestión y organización de la clínica dental desde una p
 erspectiva empresarial. El programa aborda la optimización de la rentabili
 dad mediante la evaluación de costes\,  la identificación de competencias
  del equipo y el desarrollo de estrategias de trabajo conjunto.[..]\nhttps:
 //unionprofesionaldegalicia.org/events/curso-modular-gestion-dental-integra
 l/
URL:https://unionprofesionaldegalicia.org/events/curso-modular-gestion-dental-integral/
END:VEVENT
END:VCALENDAR