BEGIN:VCALENDAR
VERSION:2.0
PRODID:-//eventon.com NONSGML v1.0//EN
CALSCALE:GREGORIAN
METHOD:PUBLISH
BEGIN:VEVENT
UID:69e5950b9c39b
DTSTAMP:20260420T025259Z
DTSTART:20251017T080000Z
DTEND:20260523T180000Z
LOCATION:
SUMMARY:Curso modular de endodoncia
DESCRIPTION:Curso organizado por el Colexio Oficial de Dentistas de Ponteve
 dra e OurenseEl objetivo es ofrecer al odontólogo general una formación t
 eórica y práctica en aperturas camerales\,  localización de conductos\, 
  uso de localizadores de ápice\,  limas Ni-Ti y técnicas de obturación t
 ermoplástica. El programa incluye también retratamientos\,  uso de ultras
 onidos y[..]\nhttps://unionprofesionaldegalicia.org/events/curso-modular-de
 -endodoncia/
URL:https://unionprofesionaldegalicia.org/events/curso-modular-de-endodoncia/
END:VEVENT
END:VCALENDAR