BEGIN:VCALENDAR
VERSION:2.0
PRODID:-//eventon.com NONSGML v1.0//EN
CALSCALE:GREGORIAN
METHOD:PUBLISH
BEGIN:VEVENT
UID:69e5955ee6b62
DTSTAMP:20260420T025422Z
DTSTART:20260401T080000Z
DTEND:20260401T080000Z
LOCATION:
SUMMARY:Competencias dixitais
DESCRIPTION:Curso promovido por el Colexio Oficial de Licenciados en Educac
 ión Física e Ciencias da Actvidade Física e do Deporte de Galicia. Progr
 ama formativo en competencias digitales El programa de formación de compet
 encias digitales en el ámbito de los colegios profesionales forma parte de
  la iniciativa&nbsp;Generación D\,  impulsada por Red.es\,  entidad[..]\nh
 ttps://unionprofesionaldegalicia.org/events/competencias-dixitais-4/
URL:https://unionprofesionaldegalicia.org/events/competencias-dixitais-4/
END:VEVENT
END:VCALENDAR